BEGIN:VCALENDAR
VERSION:2.0
PRODID:-//wp-events-plugin.com//7.2.3.1//EN
TZID:Europe/Amsterdam
X-WR-TIMEZONE:Europe/Amsterdam
BEGIN:VEVENT
UID:23@ralzuid.nl
DTSTART;TZID=Europe/Amsterdam:20260319T100000
DTEND;TZID=Europe/Amsterdam:20260319T160000
DTSTAMP:20260205T092259Z
URL:https://ralzuid.nl/events/startcursus/
SUMMARY:Startcursus
DESCRIPTION:\nBen jij onlangs gestart als medewerker bij een gemeente en ho
 ud je je bezig met laadinfrastructuur en elektrisch vervoer? Of heb je een
  nieuwe collega op het onderwerp? Meld je of jouw collega dan nu aan voor 
 onze Startcursus Laadinfrastructuur op donderdag 19 maart.\n\n\n\nTijdens 
 deze gratis cursus praten we je bij over de wereld van elektrisch vervoer 
 en laadinfrastructuur. We behandelen jouw rol als ambtenaar en de opgaven 
 voor de gemeente. Zo komen onderwerpen als de collectieve aanpak\, VPA’s
 /kabelgoten en participatie aan bod. Een perfecte kans om meer grip te kri
 jgen op dit onderwerp als je net begonnen bent of nog niet volledig bekend
  bent met de materie.\n\n\n\nAanmelden kan tot en met 6 maart: Aanmeldform
 ulier voor de Startcursus RAL Zuid op 19 maart 2026\n\n\n\n\n
END:VEVENT
BEGIN:VTIMEZONE
TZID:Europe/Amsterdam
X-LIC-LOCATION:Europe/Amsterdam
BEGIN:STANDARD
DTSTART:20251026T020000
TZOFFSETFROM:+0200
TZOFFSETTO:+0100
TZNAME:CET
END:STANDARD
END:VTIMEZONE
END:VCALENDAR