BEGIN:VCALENDAR
VERSION:2.0
PRODID:-//wp-events-plugin.com//7.2.3.1//EN
TZID:Europe/Amsterdam
X-WR-TIMEZONE:Europe/Amsterdam
BEGIN:VEVENT
UID:19@ralzuid.nl
DTSTART;TZID=Europe/Amsterdam:20260310T130000
DTEND;TZID=Europe/Amsterdam:20260310T140000
DTSTAMP:20260205T082022Z
URL:https://ralzuid.nl/events/ronde-tafel-laadinfrastructuur-en-draagvlak/
SUMMARY:Ronde tafel Laadinfrastructuur en draagvlak
DESCRIPTION:\nOp dinsdag 10 maart van 13.00 tot 14.30 uur organiseren we ee
 n online ronde tafel over laadinfrastructuur en draagvlak. In deze sessie
  wisselen gemeenten ervaringen uit over participatie bij nieuwe laadlocati
 es: wat werkt goed\, waar loop je tegenaan en hoe ga je om met vragen of b
 ezwaren vanuit inwoners? \n\n\n\nNa het plenaire deel gaan we in kleine 
 breakout rooms met elkaar in gesprek. De officiële uitnodiging volgt bin
 nenkort\, maar zet de sessie alvast in je agenda en doe mee!\n\n\n\n\n
END:VEVENT
BEGIN:VTIMEZONE
TZID:Europe/Amsterdam
X-LIC-LOCATION:Europe/Amsterdam
BEGIN:STANDARD
DTSTART:20251026T020000
TZOFFSETFROM:+0200
TZOFFSETTO:+0100
TZNAME:CET
END:STANDARD
END:VTIMEZONE
END:VCALENDAR